BEGIN:VCALENDAR
VERSION:2.0
PRODID:-//Eventin//Event Calendar//EN
CALSCALE:GREGORIAN
METHOD:PUBLISH
BEGIN:VEVENT
UID:38bec6ee2b11a8b7d6eef81967e758ec@tickonjice.si
SUMMARY:TRADICIONALNA POSTAVITEV MLAJEVSKEGA DREVESA
DESCRIPTION: DRAGI KRAJANI\,\n\n\nVABLJENI NA TRADICIONALNA POSTAVITEV MLA
 JEVSKEGA DREVESA \n\n\n \n\n\nTam\, kjer se srečajo ljudje\, tradicija 
 živi naprej. Ena vas\, eno srce\, ena tradicija. Skupaj ustvarjamo spomine
 \, ki ostanejo.\n\n\nNi le mlaj … je zgodba naše vasi.\n\n\n────
 ──────────────\n\n\n \n\n\n Nedelja\, 26.04.2
 026\n\n\n ob 17.00\n\n\n pred PGD Draža vas\n\n\n Vabljeni na TRADICION
 ALNA POSTAVITEV MLAJEVSKEGA DREVESA \n\n\n \n\n\n Pridite v čim večjem
  številu –\n\n\npovabite še sosede\, prijatelje in družino!\n\n\n Za 
 hrano in pijačo bo poskrbljeno.\n\n\n────────────
 ──────\n\n\n \n\n\n Naj se vas znova zbere v smehu\, druženj
 u in ponosu na tradicijo. 
LOCATION:Pred PGD Draža vas
DTSTAMP:20260424T014218Z
DTSTART:20260426T150000Z
DTEND:20260426T200000Z
END:VEVENT
END:VCALENDAR
