BEGIN:VCALENDAR
VERSION:2.0
PRODID:-//Eventin//Event Calendar//EN
CALSCALE:GREGORIAN
METHOD:PUBLISH
BEGIN:VEVENT
UID:be8c8b1a08f596daf486e9155baa35b7@tickonjice.si
SUMMARY:TIHI SPREHODI IZ URBANEGA V ODMAKNJENO
DESCRIPTION:TIHI SPREHOD IZ URBANEGA V ODMAKNJENO I\n𝐏𝐫𝐞𝐤𝐨 
 𝐊𝐨𝐧𝐣𝐢š𝐤𝐞 𝐠𝐨𝐫𝐞 𝐯 Ž𝐢č𝐤𝐨 𝐤
 𝐚𝐫𝐭𝐮𝐳𝐢𝐣𝐨Vabimo vas na voden pohod\, ki povezuje gib
 anje v naravi s spoznavanjem zgodovine območja Konjiške gore in Žičke k
 artuzije.\n Iz Slovenskih Konjic se bomo podali preko  Konjiške gore v 
 Dolino sv. Janeza Krstnika\, vse do Žičke kartuzije\, prvega kartuzijansk
 ega samostana v Srednji Evropi.  V Gastužu se boste lahko okrepčali s k
 artuzijansko enolončnico\, v Žički kartuziji pa doživeli tišino tega z
 godovinskega prostora.\n 𝐏𝐨𝐡𝐨𝐝V sodelovanju s Planinskim dr
 uštvom Slovenske Konjice organiziramo voden krožni pohod\, ki se začne p
 red Športno dvorano Slovenske Konjice ob 7. uri.Slovenske Konjice – Trij
 e križi – Kamna gora – Žička kartuzija – Skala – Slovenske Konji
 ce Dolžina krožne poti: 15 km. Čas hoje: približno 5\, 5 h.Zahtevnost
 : lahka planinska pot.\n Pohod je zasnovan kot umirjena izkušnja hoje\, k
 jer je poleg gibanja poudarek tudi na opazovanju okolja in doživljanju pro
 stora. Priporočamo dobro  pohodno obutev\,  vremenu primerna oblačila
 \, uporabo pohodnih palic ter  zadostno količino tekočine.\n 𝐎𝐤
 𝐫𝐞𝐩č𝐢𝐥𝐨Ob prihodu v dolino bo možnost okrepčila v Gast
 užu 1467\, najstarejši delujoči gostilni v Sloveniji\, ki se nahaja tik 
 ob kartuziji.Na voljo bo kartuzijanska zelenjavna enolončnica z ribo\, oll
 a potrida\, ki sicer ni del redne ponudbe\, zato predstavlja posebno kulina
 rično doživetje.\n 𝐃𝐨ž𝐢𝐯𝐢𝐭𝐞 𝐬𝐯𝐞𝐭𝐥
 𝐨𝐛𝐨 𝐭𝐢š𝐢𝐧𝐞Za vse\, ki želijo izkušnjo dodatno po
 globiti\, bo na voljo vodeno doživetje\, pripravljeno v sodelovanju z Zeli
 ščnim vrtom Majnika.Zeliščni vrt v Žički kartuziji\, ki ga urejata Ma
 jda in Katja Temnik\, ponuja umirjeno okolje za stik s tišino in naravnimi
  zvoki. Eno uro boste preživeli v vodeni tišini ter prisluhnili zvokom pr
 ostora in narave.  Število mest je omejeno.\n𝐏𝐫𝐢𝐣𝐚𝐯
 𝐞Udeleženci se lahko prijavite na pohod\, malico v Gastužu in delavnic
 o Doživite svetlobo tišine. \n 𝐏𝐫𝐢𝐣𝐚𝐯𝐞 𝐬𝐨 
 𝐨𝐛𝐯𝐞𝐳𝐧𝐞. Zbiramo jih do četrtka\, 𝟐𝟏. 𝟓.\, d
 o 𝟏𝟏. ure\, preko  PRIJAVNEGA OBRAZCA: https://forms.gle/QighiALAm
 SyLw2hq9 ali na  03 759 31 10 (TIC Slovenske Konjice) ali  041 774 728
  (Marija Gorinšek – PD Slovenske Konjice).\n𝐏𝐨𝐡𝐨𝐝 in 𝐝
 𝐞𝐥𝐚𝐯𝐧𝐢𝐜𝐚 sta za udeležence 𝐛𝐫𝐞𝐳𝐩
 𝐥𝐚č𝐧𝐚. Cena kartuzijanske malice znaša 𝟕€ / udeleženca 
 in se poravna na dan dogodka v Gastužu.\n Zbor udeležencev je v soboto\,
  𝟐𝟑. 𝐦𝐚𝐣𝐚\, ob 𝟕. uri pred Športno dvorano Slovenske 
 Konjice. Povratek v Konjice je predviden okoli 𝟏𝟒. ure.\n V primeru 
 močnih padavin dogodek žal odpade.\nVljudno vabljeni.\n*𝘋𝘰𝘨𝘰
 𝘥𝘦𝘬 𝘷 𝘰𝘬𝘷𝘪𝘳𝘶 𝘱𝘳𝘰𝘫𝘦𝘬𝘵𝘢
  Ž𝘪č𝘬𝘢 𝘬𝘢𝘳𝘵𝘶𝘻𝘪𝘫𝘢 – 𝘱𝘳𝘰𝘴
 𝘵𝘰𝘳 𝘮𝘪𝘳𝘶\, 𝘻𝘯𝘢𝘯𝘫𝘢 𝘪𝘯 𝘴𝘰
 𝘥𝘦𝘭𝘰𝘷𝘢𝘯𝘫𝘢 𝘴𝘰𝘧𝘪𝘯𝘢𝘯𝘤𝘪
 𝘳𝘢𝘵𝘢 𝘌𝘷𝘳𝘰𝘱𝘴𝘬𝘢 𝘶𝘯𝘪𝘫𝘢 𝘪
 𝘯 𝘙𝘦𝘱𝘶𝘣𝘭𝘪𝘬𝘢 𝘚𝘭𝘰𝘷𝘦𝘯𝘪𝘫
 𝘢 𝘷 𝘰𝘬𝘷𝘪𝘳𝘶 𝘚𝘵𝘳𝘢𝘵𝘦š𝘬𝘦𝘨
 𝘢 𝘯𝘢č𝘳𝘵𝘢 𝘴𝘬𝘶𝘱𝘯𝘦 𝘬𝘮𝘦𝘵𝘪
 𝘫𝘴𝘬𝘦 𝘱𝘰𝘭𝘪𝘵𝘪𝘬𝘦 2023–2027.
LOCATION:Zbor pri Športni dvorani Slovenske Konjice
DTSTAMP:20260424T015216Z
DTSTART:20260523T050000Z
DTEND:20260523T100000Z
END:VEVENT
END:VCALENDAR
