BEGIN:VCALENDAR
VERSION:2.0
PRODID:-//Eventin//Event Calendar//EN
CALSCALE:GREGORIAN
METHOD:PUBLISH
BEGIN:VEVENT
UID:afa964cdfbd93288413faf87ce607fa6@tickonjice.si
SUMMARY:MLAJ DOBRIH OBČUTKOV
DESCRIPTION:Skupaj bomo dvignili MLAJ DOBRIH OBČUTKOV!Po starem\, na roke
 \, bomo mlaj za Konjičanke in Konjičane dvignili skupaj s Turističnim dr
 uštvom Mlače. Za pesem bodo poskrbeli Ansambel Kiper in Mlaški fantje
 \,  za vino Vina Založnik\, za gostinsko ponudbo Kavarna Črni Kos\, 
 za vožnje s kočijo pa Kmetija Iskrač. Pridite pomagat v četrtek\, 23. 
 aprila\, pred Radio Rogla.
LOCATION:Radio Rogla\, Slovenske Konjice
DTSTAMP:20260420T130814Z
DTSTART:20260423T143000Z
DTEND:20260423T190000Z
END:VEVENT
END:VCALENDAR
