BEGIN:VCALENDAR
VERSION:2.0
PRODID:-//Eventin//Event Calendar//EN
CALSCALE:GREGORIAN
METHOD:PUBLISH
BEGIN:VEVENT
UID:714462022024ad98acce0a96479eda7c@tickonjice.si
SUMMARY:OBMOČNO SREČANJE OTROŠKIH IN MLADINSKIH PEVSKIH ZBOROV »ZAPOJMO
  POMLADI«
DESCRIPTION:Območna revija otroških in mladinskih pevskih zborov "𝓩
 𝓪𝓹𝓸𝓳𝓶𝓸 𝓹𝓸𝓶𝓵𝓪𝓭𝓲" se počasi bliža
LOCATION:V veliki avli OŠ Ob Dravinji
DTSTAMP:20260421T100504Z
DTSTART:20260422T153000Z
DTEND:20260422T180000Z
END:VEVENT
END:VCALENDAR
