BEGIN:VCALENDAR
VERSION:2.0
PRODID:-//Eventin//Event Calendar//EN
CALSCALE:GREGORIAN
METHOD:PUBLISH
BEGIN:VEVENT
UID:6e674d320f2cb8a5ece8d2e7a0445eae@tickonjice.si
SUMMARY:IZLET V DALMACIJO - Kanjon Zrmanje\, Zadar in Biograd
DESCRIPTION:Območno združenje veteranov vojne za Slovenijo\, Slovenske Ko
 njice organizira strokovno ekskurzijo od sobote 11.5.\, do nedelje 12.5.\,:
  izlet DALMACIJA – KANJON ZRMANJE\, ZADAR in BIOGRAD.\n\n\n\nPRIJAVE: Ma
 rta Plajh – 041 505 245
LOCATION:Online
DTSTAMP:20260420T211133Z
DTSTART:20260419T220000Z
DTEND:20260419T220000Z
END:VEVENT
END:VCALENDAR
